BEGIN:VCALENDAR
VERSION:2.0
PRODID:-//UNIBRASIL - ECPv6.10.0//NONSGML v1.0//EN
CALSCALE:GREGORIAN
METHOD:PUBLISH
X-WR-CALNAME:UNIBRASIL
X-ORIGINAL-URL:https://www.unibrasil.com.br
X-WR-CALDESC:Eventos para UNIBRASIL
REFRESH-INTERVAL;VALUE=DURATION:PT1H
X-Robots-Tag:noindex
X-PUBLISHED-TTL:PT1H
BEGIN:VTIMEZONE
TZID:America/Sao_Paulo
BEGIN:STANDARD
TZOFFSETFROM:-0200
TZOFFSETTO:-0300
TZNAME:-03
DTSTART:20190217T020000
END:STANDARD
END:VTIMEZONE
BEGIN:VEVENT
DTSTART;TZID=America/Sao_Paulo:20190827T140000
DTEND;TZID=America/Sao_Paulo:20191126T180000
DTSTAMP:20260425T181228
CREATED:20190821T172511Z
LAST-MODIFIED:20190821T172511Z
UID:42092-1566914400-1574791200@www.unibrasil.com.br
SUMMARY:Tecnologia e Dignidade Humana
DESCRIPTION:Objetivos: Aprofundar o conhecimento em assuntos relacionados à Tecnologia\ne comportamento humano \nINSCRIÇÃO (CLIQUE AQUI): \nProgramação: \n27/08 \n14h às 18h – Discussão de texto \n03/09 \n14h às 18h – Discussão de séries e filmes que retratam o tema Tecnologia e Comportamento Humano \n10/09 \n14h às 18h – Seminários \n17/09 \n14h às 18h  – Seminários \n24/09  \n14h às 18h  – Discussão de texto \n01/10  \n14h às 18h  – Discussão de Cap. De Livro \n08/10  \n14h às 18h  – Discussão de séries e filmes que retratam o tema Tecnologia e Comportamento Humano \n15/10  \n14h às 18h  – Discussão de texto \n22/10  \n14h às 18h  – Seminário \n29/10 \n14h às 18h  – Seminário \n05/11 \n14h às 18h  – Discussão de texto \n12/11  \n14h às 18h  – Discussão de Casos Clínicos \n19/11  \n14h às 18h  – Discussão de Casos Clínicos \n26/11 \n14h às 18h  – Recapitulação do que foi estudado\, Feedback e Confraternização
URL:https://www.unibrasil.com.br/eventos/tecnologia-e-dignidade-humana/
LOCATION:Sala de Aula n. 92 no 2º andar do bloco 4
CATEGORIES:EVENTOS,EVENTOS - GRADUAÇÃO
ATTACH;FMTTYPE=image/jpeg:https://www.unibrasil.com.br/wp-content/uploads/2019/08/tecnologia-e-dignidade-humana-.jpg
END:VEVENT
BEGIN:VEVENT
DTSTART;TZID=America/Sao_Paulo:20190913T190000
DTEND;TZID=America/Sao_Paulo:20190913T221000
DTSTAMP:20260425T181228
CREATED:20190910T213857Z
LAST-MODIFIED:20190910T213857Z
UID:42812-1568401200-1568412600@www.unibrasil.com.br
SUMMARY:II Simpósio de Saúde Única: Políticas Públicas e o Papel do Médico Veterinário
DESCRIPTION:Objetivos: \nDiscutir políticas públicas e o uso da estrutura do curso para o benefício da saúde única. \nPúblico-alvo: acadêmicos de medicina veterinária e representantes municipais \nNúmero Máximo de Participantes: 150 \nINSCRIÇÃO (CLIQUE AQUI): \nProgramação: \n13/09 \n19h00 às 19h45 – Políticas públicas do Meio Ambiente no município de Pinhais \n19h50 às 20h20 – A Rotina do cirurgião veterinário nas campanhas de castração \n20h35 às 21h45 – Fiscalizações e políticas públicas ambientas do município de Curitiba \n21h30 às 22h10 – Fiscalização e crimes de maus-tratos
URL:https://www.unibrasil.com.br/eventos/ii-simposio-de-saude-unica-politicas-publicas-e-o-papel-do-medico-veterinario/
LOCATION:Auditório Desembargador Cordeiro Clève
CATEGORIES:EVENTOS
ATTACH;FMTTYPE=image/jpeg:https://www.unibrasil.com.br/wp-content/uploads/2019/09/simpósio.jpg
END:VEVENT
END:VCALENDAR