BEGIN:VCALENDAR
VERSION:2.0
PRODID:-//UNIBRASIL - ECPv6.10.0//NONSGML v1.0//EN
CALSCALE:GREGORIAN
METHOD:PUBLISH
X-ORIGINAL-URL:https://www.unibrasil.com.br
X-WR-CALDESC:Eventos para UNIBRASIL
REFRESH-INTERVAL;VALUE=DURATION:PT1H
X-Robots-Tag:noindex
X-PUBLISHED-TTL:PT1H
BEGIN:VTIMEZONE
TZID:America/Sao_Paulo
BEGIN:STANDARD
TZOFFSETFROM:-0200
TZOFFSETTO:-0300
TZNAME:-03
DTSTART:20190217T020000
END:STANDARD
END:VTIMEZONE
BEGIN:VEVENT
DTSTART;TZID=America/Sao_Paulo:20190827T140000
DTEND;TZID=America/Sao_Paulo:20191126T180000
DTSTAMP:20260425T165053
CREATED:20190821T172511Z
LAST-MODIFIED:20190821T172511Z
UID:42092-1566914400-1574791200@www.unibrasil.com.br
SUMMARY:Tecnologia e Dignidade Humana
DESCRIPTION:Objetivos: Aprofundar o conhecimento em assuntos relacionados à Tecnologia\ne comportamento humano \nINSCRIÇÃO (CLIQUE AQUI): \nProgramação: \n27/08 \n14h às 18h – Discussão de texto \n03/09 \n14h às 18h – Discussão de séries e filmes que retratam o tema Tecnologia e Comportamento Humano \n10/09 \n14h às 18h – Seminários \n17/09 \n14h às 18h  – Seminários \n24/09  \n14h às 18h  – Discussão de texto \n01/10  \n14h às 18h  – Discussão de Cap. De Livro \n08/10  \n14h às 18h  – Discussão de séries e filmes que retratam o tema Tecnologia e Comportamento Humano \n15/10  \n14h às 18h  – Discussão de texto \n22/10  \n14h às 18h  – Seminário \n29/10 \n14h às 18h  – Seminário \n05/11 \n14h às 18h  – Discussão de texto \n12/11  \n14h às 18h  – Discussão de Casos Clínicos \n19/11  \n14h às 18h  – Discussão de Casos Clínicos \n26/11 \n14h às 18h  – Recapitulação do que foi estudado\, Feedback e Confraternização
URL:https://www.unibrasil.com.br/eventos/tecnologia-e-dignidade-humana/
LOCATION:Sala de Aula n. 92 no 2º andar do bloco 4
CATEGORIES:EVENTOS,EVENTOS - GRADUAÇÃO
ATTACH;FMTTYPE=image/jpeg:https://www.unibrasil.com.br/wp-content/uploads/2019/08/tecnologia-e-dignidade-humana-.jpg
END:VEVENT
BEGIN:VEVENT
DTSTART;TZID=America/Sao_Paulo:20191003T190000
DTEND;TZID=America/Sao_Paulo:20191003T210000
DTSTAMP:20260425T165053
CREATED:20190912T180658Z
LAST-MODIFIED:20190912T180658Z
UID:42953-1570129200-1570136400@www.unibrasil.com.br
SUMMARY:Uma história de empreendedorismo - desafios e aprendizados.
DESCRIPTION:Objetivos: \nAtravés da análise de seu próprio percurso formativo\, a palestrante poderá demonstrar a importância do empreendedorismo e os motivos de existência de sua empresa. O termo compliance tem origem no verbo em inglês to comply\, que significa agir de acordo com uma regra\, uma instrução interna\, um comando ou um pedido\, ou seja\, estar em ‘compliance’ é estar em conformidade com leis e regulamentos externos e internos. Portanto\, manter a empresa em conformidade significa atender aos normativos dos órgãos reguladores\, de acordo com as atividades desenvolvidas pela sua empresa\, bem como dos regulamentos internos\, principalmente aqueles inerentes ao seu controle interno. \nPúblico-alvo: estudantes e comunidade interessada \nNúmero Máximo de Participantes: 44 \nINSCRIÇÃO (CLIQUE AQUI): \nProgramação: \n03/10 \n19h00 às 21h00 – Uma história de empreendedorismo – desafios e aprendizados.
URL:https://www.unibrasil.com.br/eventos/uma-historia-de-empreendedorismo-desafios-e-aprendizados/
LOCATION:SALA DE LEITURAS
CATEGORIES:EVENTOS
ATTACH;FMTTYPE=image/jpeg:https://www.unibrasil.com.br/wp-content/uploads/2019/09/empreendedorismo.jpg
END:VEVENT
BEGIN:VEVENT
DTSTART;TZID=America/Sao_Paulo:20191003T210000
DTEND;TZID=America/Sao_Paulo:20191107T190000
DTSTAMP:20260425T165053
CREATED:20191001T203302Z
LAST-MODIFIED:20191001T203302Z
UID:43530-1570136400-1573153200@www.unibrasil.com.br
SUMMARY:Encontro das Quintas-Feiras
DESCRIPTION:Objetivos: \nCapacitar os alunos do doutorado\, mestrado e da graduação\, tanto na dimensão interna dos direitos fundamentais por meio do direito administrativo\, como na dimensão internacional do ius cogen e suas implicações no direito interno. o evento tradicionalmente se apresenta como uma possibilidade de reflexão da comunidade acadêmica do unibrasil sobre temais atuais objeto das pesquisas que se realizam junto ao ppgd e aos núcleos de pesquisa da instituição. \nPúblico-alvo: alunos do Doutorado\, Mestrado\, Graduação e comunidade externa \nNúmero Máximo de Participantes: 45 \nProgramação: \n03/10 \n21h00 – “os precedentes administrativos como instrumento para realização dos direitos fundamentais pela administração pública brasileira” \n07/11 \n19h00 – “repensando as fontes de direito internacional a partir da perspectiva \n 
URL:https://www.unibrasil.com.br/eventos/encontro-das-quintas-feiras-3/
LOCATION:Sala 147 – Bloco 6 – Sala do PPGD/UniBrasil
CATEGORIES:EVENTOS
ATTACH;FMTTYPE=image/jpeg:https://www.unibrasil.com.br/wp-content/uploads/2019/10/encontro.jpg
END:VEVENT
END:VCALENDAR