BEGIN:VCALENDAR
VERSION:2.0
PRODID:-//UNIBRASIL - ECPv6.10.0//NONSGML v1.0//EN
CALSCALE:GREGORIAN
METHOD:PUBLISH
X-ORIGINAL-URL:https://www.unibrasil.com.br
X-WR-CALDESC:Eventos para UNIBRASIL
REFRESH-INTERVAL;VALUE=DURATION:PT1H
X-Robots-Tag:noindex
X-PUBLISHED-TTL:PT1H
BEGIN:VTIMEZONE
TZID:America/Sao_Paulo
BEGIN:STANDARD
TZOFFSETFROM:-0200
TZOFFSETTO:-0300
TZNAME:-03
DTSTART:20180218T020000
END:STANDARD
BEGIN:DAYLIGHT
TZOFFSETFROM:-0300
TZOFFSETTO:-0200
TZNAME:-02
DTSTART:20181104T030000
END:DAYLIGHT
END:VTIMEZONE
BEGIN:VEVENT
DTSTART;TZID=America/Sao_Paulo:20180515T160000
DTEND;TZID=America/Sao_Paulo:20180612T160000
DTSTAMP:20260421T125505
CREATED:20180515T172945Z
LAST-MODIFIED:20180515T172945Z
UID:25124-1526400000-1528819200@www.unibrasil.com.br
SUMMARY:Curso De Extensão: Módulo Processual - Processos Incidentais no Novo CPC
DESCRIPTION:JUSTIFICATIVA \nprocedimentos incidentais com base no novo regramento do código de processo civil\,  listar: a) incidente de resolução de demandas repetitivas; b) incidente de arguiçao de inconstitucionalidade; c) incidente de desconsideração da personalidade jurídica; d) incidente de arguição de competência \nOBJETIVOS \ncomplementar a grade oficial da disciplina de processo civil e demonstrar aos alunos como funciona esses incidentes na prática diária do profissional.
URL:https://www.unibrasil.com.br/eventos/curso-de-extensao-modulo-processual-processos-incidentais-no-novo-cpc/
LOCATION:SALA DE AULA Nº 170 – BLOCO 6\, UniBrasil
CATEGORIES:EVENTOS,EVENTOS - GRADUAÇÃO
ATTACH;FMTTYPE=image/jpeg:https://www.unibrasil.com.br/wp-content/uploads/2018/05/detalhe-curso-extensão.jpg
END:VEVENT
END:VCALENDAR