BEGIN:VCALENDAR
VERSION:2.0
PRODID:-//UNIBRASIL - ECPv6.10.0//NONSGML v1.0//EN
CALSCALE:GREGORIAN
METHOD:PUBLISH
X-WR-CALNAME:UNIBRASIL
X-ORIGINAL-URL:https://www.unibrasil.com.br
X-WR-CALDESC:Eventos para UNIBRASIL
REFRESH-INTERVAL;VALUE=DURATION:PT1H
X-Robots-Tag:noindex
X-PUBLISHED-TTL:PT1H
BEGIN:VTIMEZONE
TZID:America/Sao_Paulo
BEGIN:STANDARD
TZOFFSETFROM:-0200
TZOFFSETTO:-0300
TZNAME:-03
DTSTART:20190217T020000
END:STANDARD
END:VTIMEZONE
BEGIN:VEVENT
DTSTART;TZID=America/Sao_Paulo:20191120T180000
DTEND;TZID=America/Sao_Paulo:20191220T183000
DTSTAMP:20260425T140308
CREATED:20191108T213520Z
LAST-MODIFIED:20191108T213520Z
UID:45167-1574272800-1576866600@www.unibrasil.com.br
SUMMARY:Exposição “Casos da Zona Crepuscular”
DESCRIPTION:Objetivos: \nA exposição tem como objetivo propor um debate sobre a materialização de narrativas fantásticas no Jornalismo\, que é uma mediação tecnológica voltada para o registro de fatos da cotidianidade. Por meio das imagens\, as pessoas podem refletir a respeito da representação do cotidiano e conceitos como “verdade” e “realidade”. \nPúblico-alvo: Comunidade interna e externa do UniBrasil Centro Universitário \nNúmero Máximo de Participantes: 300 \nINSCRIÇÃO (CLIQUE AQUI): \nProgramação: \n20/11 \n18h30 – Abertura da exposição “Casos da Zona Crepuscular” \n20/12 \n18h00 – Fechamento da exposição “Casos da Zona Crepuscular”
URL:https://www.unibrasil.com.br/eventos/exposicao-casos-da-zona-crepuscular/
LOCATION:Sala de Leituras do Brasil
CATEGORIES:EVENTOS,EVENTOS - GRADUAÇÃO
ATTACH;FMTTYPE=image/jpeg:https://www.unibrasil.com.br/wp-content/uploads/2019/11/crepusculo.jpg
END:VEVENT
BEGIN:VEVENT
DTSTART;TZID=America/Sao_Paulo:20191206T140000
DTEND;TZID=America/Sao_Paulo:20191206T160000
DTSTAMP:20260425T140308
CREATED:20191205T213937Z
LAST-MODIFIED:20191205T213937Z
UID:46343-1575640800-1575648000@www.unibrasil.com.br
SUMMARY:La democracia participativa en Colombia: una judicialización de los escenarios participativos
DESCRIPTION:Objetivos: \nExposição de temas relevantes\, realizar debate acerca dos estudos sobre a democracia participativa  sua judicialização e seus efeitos. \nPúblico-alvo: graduação\, mestrandos\, doutorandos\, egressos do mestrado\, público em geral \nNúmero Máximo de Participantes: 70 \nINSCRIÇÃO (CLIQUE AQUI): \nProgramação: \n06/12 \n14h00 – La democracia participativa en Colombia: una judicialización de los escenarios participativos
URL:https://www.unibrasil.com.br/eventos/la-democracia-participativa-en-colombia-una-judicializacion-de-los-escenarios-participativos/
LOCATION:Bloco 6 – Sala 147
CATEGORIES:EVENTOS
ATTACH;FMTTYPE=image/jpeg:https://www.unibrasil.com.br/wp-content/uploads/2019/12/lademocracia.jpg
END:VEVENT
BEGIN:VEVENT
DTSTART;TZID=America/Sao_Paulo:20191209T080000
DTEND;TZID=America/Sao_Paulo:20191209T110000
DTSTAMP:20260425T140308
CREATED:20191205T215214Z
LAST-MODIFIED:20191205T215214Z
UID:46350-1575878400-1575889200@www.unibrasil.com.br
SUMMARY:Ação social de confraternização – Rede Vivian Marçal
DESCRIPTION:Objetivos: \nPromover a integração dos alunos com a comunidade com necessidades especiais\, bem como ofertar a essa comunidade um momento de lazer e benefícios. \nPúblico-alvo: alunos e funcionários das escolas. \nNúmero Máximo de Participantes: 300 \nProgramação: \n09/12 \n08h00 às 11h00 – Ação Social Vivian Marçal
URL:https://www.unibrasil.com.br/eventos/acao-social-de-confraternizacao-rede-vivian-marcal/
LOCATION:Local de estágio – Escola Educação Especial Vivian Marçal. R. Mamoré\, 1066 – Mercês
CATEGORIES:EVENTOS
ATTACH;FMTTYPE=image/jpeg:https://www.unibrasil.com.br/wp-content/uploads/2019/12/açaosocial.jpg
END:VEVENT
BEGIN:VEVENT
DTSTART;TZID=America/Sao_Paulo:20191212T080000
DTEND;TZID=America/Sao_Paulo:20191212T123000
DTSTAMP:20260425T140308
CREATED:20191206T132244Z
LAST-MODIFIED:20191206T132244Z
UID:46368-1576137600-1576153800@www.unibrasil.com.br
SUMMARY:Identificando vítimas de tráfico humano nos serviços de saúde
DESCRIPTION:Objetivos: \nContextualizar o tráfico humano no cenário nacional e mundial para os profissionais de saúde com intuito de oferecer uma assistência de qualidade. \nPúblico-alvo: Enfermeiros(as)\,  Acadêmicos de Enfermagem e profissionais de outras áreas. \nNúmero Máximo de Participantes: total de cadeiras auditório \nINSCRIÇÃO (CLIQUE AQUI): \nProgramação: \n12/12 \n08h00 às 08h30 – Realização das inscrições e Coffe-break \n08h30 às 10h30 – Workshop; Identificando vítimas de tráfico humano nos serviços de saúde \n10h30 às 11h00 – Abertura para perguntas \n11h00 às 12h30 – Talk show; “Rede de atuação na identificação de vítimas de tráfico humano nos serviços de saúde”.
URL:https://www.unibrasil.com.br/eventos/identificando-vitimas-de-trafico-humano-nos-servicos-de-saude/
LOCATION:Auditório Des. Cordeiro Clève – Bloco 06 – Térreo
CATEGORIES:EVENTOS
ATTACH;FMTTYPE=image/jpeg:https://www.unibrasil.com.br/wp-content/uploads/2019/12/identificando.jpg
END:VEVENT
BEGIN:VEVENT
DTSTART;TZID=America/Sao_Paulo:20191213T080000
DTEND;TZID=America/Sao_Paulo:20191213T120000
DTSTAMP:20260425T140308
CREATED:20191206T120729Z
LAST-MODIFIED:20191206T120729Z
UID:46361-1576224000-1576238400@www.unibrasil.com.br
SUMMARY:Indicadores Sensíveis à Enfermagem (NSI) e a atuação do enfermeiro-educador
DESCRIPTION:Objetivos: \n1- Palestra: Enfermeiros educadores  \nObjetivo Geral: \n– Descrever o papel do enfermeiro educador na viabilidade da prática baseada em evidência\, com foco nos indicadores sensíveis à Enfermagem (ISEs); \n2- Mesa Redonda: Voluntariado nos serviços de saúde: nível de satisfação na perspectiva do paciente\, da instituição/staff e do voluntário. \nObjetivo Geral: \nConhecer os benefícios e impacto na qualidade do trabalho voluntário intra hospitalar\, por membros da comunidade. \nPúblico-alvo: Enfermeiros(as)\,  Acadêmicos de Enfermagem e profissionais de outras áreas. \nNúmero Máximo de Participantes: total de cadeiras auditório \nINSCRIÇÃO (CLIQUE AQUI): \nProgramação: \n13/12 \n08h00 às 08h30 – Realização das inscrições e Coffe-break \n08h30 às 10h30 – Palestra; Enfermeiros educadores: pesquisa\, análise\, desenvolvimento de projetos e preparação do staff nos) para obter resultados de qualidade\, melhorar a segurança e experiência do paciente\, bem como\, aumentar a satisfação no trabalho do enfermeiro. \n10h30 às 11h00 – Abertura para perguntas \n11h00 às 12h00 – Mesa redonda; Voluntariado nos serviços de saúde: nível de satisfação na perspectiva do paciente\, da instituição/staff e do voluntário.
URL:https://www.unibrasil.com.br/eventos/indicadores-sensiveis-a-enfermagem-nsi-e-a-atuacao-do-enfermeiro-educador/
LOCATION:Auditório Des. Cordeiro Clève – Bloco 06 – Térreo
CATEGORIES:EVENTOS
ATTACH;FMTTYPE=image/jpeg:https://www.unibrasil.com.br/wp-content/uploads/2019/12/unibrasil-eventos_saude_485x283px-1-2.jpg
END:VEVENT
BEGIN:VEVENT
DTSTART;TZID=America/Sao_Paulo:20191214T080000
DTEND;TZID=America/Sao_Paulo:20191214T170000
DTSTAMP:20260425T140308
CREATED:20191122T205919Z
LAST-MODIFIED:20191122T205919Z
UID:45707-1576310400-1576342800@www.unibrasil.com.br
SUMMARY:Curso prático intensivo em técnicas fundamentais ao embriologista jr no laboratório de FIV.
DESCRIPTION:Objetivos: \nTransmitir os principais conceitos da reprodução assistida pelo olhar do embriologista de laboratório e consultório. \nPúblico-alvo: alunos e profissionais de biomedicina\, biologia\, farmácia e veterinária \nNúmero Máximo de Participantes: 10 \nINSCRIÇÃO (CLIQUE AQUI): \nProgramação: \n14/12 \n08h00 às 12h00 – Preparo seminal para aplicação nas técnicas de baixa e alta complexidade \n13h00 às 15h30 – Prática em técnicas para manipulação de gametas. \n16h00 às 17h00 – Prática de transferência embrionária e apresentação de materiais do laboratório de FIV.
URL:https://www.unibrasil.com.br/eventos/curso-pratico-intensivo-em-tecnicas-fundamentais-ao-embriologista-jr-no-laboratorio-de-fiv/
LOCATION:Laboratório de microscopia 1
CATEGORIES:EVENTOS,EVENTOS - GRADUAÇÃO
ATTACH;FMTTYPE=image/jpeg:https://www.unibrasil.com.br/wp-content/uploads/2019/11/curso-prático.jpg
END:VEVENT
BEGIN:VEVENT
DTSTART;TZID=America/Sao_Paulo:20200306T170000
DTEND;TZID=America/Sao_Paulo:20200605T184000
DTSTAMP:20260425T140308
CREATED:20200305T133304Z
LAST-MODIFIED:20200305T133304Z
UID:48825-1583514000-1591382400@www.unibrasil.com.br
SUMMARY:Curso de extensão em direito dos contratos
DESCRIPTION:Objetivos: \n\nIntegrar graduação e pós-graduação stricto sensu em Direito;\nAprofundar o estudo do direito dos contratos\, mediante o estudo de espécies contratuais;\nComplementar a formação dos graduandos em direito\, mediante o estudo dos contratos em espécie\, previstos no Código Civil\, por meio de um curso de extensão.\n\nPúblico-alvo: acadêmicos do curso de Direito \nNúmero Máximo de Participantes: 50 \nINSCRIÇÃO (CLIQUE AQUI): \nProgramação: \n06/03 \n17h às 18:40h – Teoria Geral dos Contratos \n13/03 \n17h às 18:40h – Compra e Venda \n20/03 \n17h às 18:40h – Doação \n27/03 \n17h às 18:40h – Locação \n03/04 \n17h às 18:40h – Comodato e Mútuo \n17/04 \n17h às 18:40h – Prestação de Serviço \n24/04 \n17h às 18:40h – Empreitada \n08/05 \n17h às 18:40h – Depósito \n15/05 \n17h às 18:40h – Mandato \n22/05 \n17h às 18:40h – Seguro \n29/05 \n17h às 18:40h – Fiança \n05/06 \n17h às 18:40h – Contratos Bancários
URL:https://www.unibrasil.com.br/eventos/curso-de-extensao-em-direito-dos-contratos/
LOCATION:Sala de Aula nº 147\, Bloco 06
CATEGORIES:EVENTOS
ATTACH;FMTTYPE=image/jpeg:https://www.unibrasil.com.br/wp-content/uploads/2020/03/direito_dos_contratos.jpg
END:VEVENT
BEGIN:VEVENT
DTSTART;TZID=America/Sao_Paulo:20200310T100000
DTEND;TZID=America/Sao_Paulo:20200310T113000
DTSTAMP:20260425T140308
CREATED:20200304T171547Z
LAST-MODIFIED:20200304T171547Z
UID:48770-1583834400-1583839800@www.unibrasil.com.br
SUMMARY:Questões práticas sobre usucapião extrajudicial
DESCRIPTION:Tema: Questões práticas sobre usucapião extrajudicial \nObjetivo: O presente evento pretende esclarecer aos alunos a importância do tema e dar um apoio técnico sobre os assuntos outrora ministrados em sala de aula. \nNome do convidado: \nÂNGELO VOLPI (Possui graduação em Direito pela Pontifícia Universidade Católica do Paraná (1985). Atualmente é Notário Titular do 7º Tabelião Volpi e Diretor de Informática da Associação dos Notários e Registradores do Brasil – AnergPR.) \nDES. MESTRE EDGARD FERNANDO BARBOSA (doutorando no Programa de Pós-Graduação em Direito do Centro Universitário Autônomo do Brasil (UniBrasil) \n 
URL:https://www.unibrasil.com.br/eventos/questoes-praticas-sobre-usucapiao-extrajudicial/
LOCATION:Centro Universitário UniBrasil\, Rua Konrad Adenauer\, 442\, Curitiba\, Paraná\, 82820-540\, Brasil
CATEGORIES:EVENTOS,EVENTOS - GRADUAÇÃO,EVENTOS – MESTRADO
ATTACH;FMTTYPE=image/jpeg:https://www.unibrasil.com.br/wp-content/uploads/2020/03/WhatsApp-Image-2020-03-04-at-12.34.27.jpeg
END:VEVENT
BEGIN:VEVENT
DTSTART;TZID=America/Sao_Paulo:20200312T171500
DTEND;TZID=America/Sao_Paulo:20200521T185000
DTSTAMP:20260425T140308
CREATED:20200305T131623Z
LAST-MODIFIED:20200305T131623Z
UID:48813-1584033300-1590087000@www.unibrasil.com.br
SUMMARY:Curso de Extensão de Medicina Legal
DESCRIPTION:Objetivos: \nO objetivo do curso é aprimorar a atuação na área penal e em todas as demais áreas do Direito\, conforme será demonstrado durante o curso. \nPúblico-alvo: alunos do curso de direito \nNúmero Máximo de Participantes: 71 \nINSCRIÇÃO (CLIQUE AQUI): \nProgramação: \n12/03 \n17h15 às 18h50 – Introdução à ML; perícias e peritos \n19/03  \n17h15 às 18h50 – Traumatologia forense I \n26/03 \n17h15  às 18h50 – Traumatologia forense II \n02/04 \n17h15 às 18h50 – Balística forense \n16/04 \n17h15 às 18h50 – Toxicologia forense \n23/04 \n17h15 às 18h50 – Psicologia forense \n30/04 \n17h15  às 18h50 – Antropologia forense \n07/05 \n17:15  às 18:50 – Sexologia forense \n14/05 \n17h15 às 18h50 – Tanatologia forense I \n21/05 \n17h15 às 18h50 – Tanatologia forense II
URL:https://www.unibrasil.com.br/eventos/curso-de-extensao-de-medicina-legal/
LOCATION:Auditório Rene Dotti\, bloco 6 e Auditório do Instituto Médico Legal.
CATEGORIES:EVENTOS
ATTACH;FMTTYPE=image/jpeg:https://www.unibrasil.com.br/wp-content/uploads/2020/03/medicina_legal.jpg
END:VEVENT
BEGIN:VEVENT
DTSTART;TZID=America/Sao_Paulo:20200313T090000
DTEND;TZID=America/Sao_Paulo:20200313T120000
DTSTAMP:20260425T140308
CREATED:20200309T124514Z
LAST-MODIFIED:20200309T124514Z
UID:48920-1584090000-1584100800@www.unibrasil.com.br
SUMMARY:O Desafio das políticas Públicas no Brasil
DESCRIPTION:Tema: O Desafio das políticas Públicas no Brasil \nObjetivo: A palestra tem como objetivo\, além de apresentar o cenário atual das políticas públicas no Brasil\, estabelecer conexões entre o tema e as pesquisas desenvolvidas pelo Programa de Pós-Graduação em Direito do UniBrasil. \nNome do convidado: \nProfa. Dra. Carolina Costa Ferreira (Doutora (2016) em Direito\, Estado e Constituição pela Universidade de Brasília (UnB). Professora do Programa de Pós-Graduação em Direito Constitucional do Instituto Brasiliense de Direito Público (IDP). Líder do Grupo de Pesquisa “Criminologia do Enfrentamento” (UniCEUB – CNPq) e co-líder do Observatório de Direitos Humanos (IDP). \nProfa. Dra. Vanice Regina Lírio do Valle (Pós-doutorado em Administração pela EBAPE/FGV e Doutora em Direito pela Universidade Gama Filho (2006).Professora do Programa de Pós-Graduação em Direito da UNESA/RJ\, Procuradora do Município do Rio de Janeiro\, produtora de conteúdo digital na área jurídica). \n  \nInscrição: https://www.even3.com.br/unbeventosprimeirosemestre/ \n 
URL:https://www.unibrasil.com.br/eventos/o-desafio-das-politicas-publicas-no-brasil/
LOCATION:Centro Universitário UniBrasil\, Rua Konrad Adenauer\, 442\, Curitiba\, Paraná\, 82820-540\, Brasil
CATEGORIES:EVENTOS,EVENTOS - GRADUAÇÃO,EVENTOS – MESTRADO
ATTACH;FMTTYPE=image/jpeg:https://www.unibrasil.com.br/wp-content/uploads/2020/03/WhatsApp-Image-2020-03-09-at-09.15.27.jpeg
END:VEVENT
BEGIN:VEVENT
DTSTART;TZID=America/Sao_Paulo:20200314T080000
DTEND;TZID=America/Sao_Paulo:20200530T180000
DTSTAMP:20260425T140308
CREATED:20200305T134358Z
LAST-MODIFIED:20200305T134358Z
UID:48834-1584172800-1590861600@www.unibrasil.com.br
SUMMARY:Informática Cidadã
DESCRIPTION:Objetivos: \nDisponibilizar o acesso digital à comunidade interna e externa para contribuir com a diminuição da exclusão digital. \nPara os Acadêmicos:  \n\noferecer aos alunos interessados a oportunidade de elaborarem e desenvolverem\, sob supervisão\, cursos de informática básica dirigidos à comunidade;\nincentivar o envolvimento dos alunos em projetos de Inclusão Digital;\noportunizar a vivência na prática\, uma rica experiência profissional.\n\nPara a Comunidade: \n\noferecer à comunidade um projeto de inclusão sócio digital\, através de cursos de informática de curta duração;\ncontribuir para a diminuição da exclusão digital (bastante expressiva em nossa sociedade);\npotencializar a oportunidade de emprego das pessoas que participam do projeto\, já que\, em geral\, um dos requisitos essenciais para uma vaga de emprego são conhecimentos de informática.\n\nPúblico-alvo: comunidade interna e comunidade externa \nNúmero Máximo de Participantes: 15/sala \nProgramação: \n14/03 – Início do curso \n28/03 – Aula 02 \n04/04 – Aula 03 \n18/04 – Aula 04 \n25/04 – Aula 05 \n09/05 – Aula 06 \n16/05 – Aula 07 \n23/05 – Última Aula; Avaliação \n30/05 – Formatura com entrega de certificados
URL:https://www.unibrasil.com.br/eventos/informatica-cidada/
LOCATION:Laboratórios de Informática
CATEGORIES:EVENTOS
ATTACH;FMTTYPE=image/jpeg:https://www.unibrasil.com.br/wp-content/uploads/2020/03/informatica_cidadã.jpg
END:VEVENT
BEGIN:VEVENT
DTSTART;TZID=America/Sao_Paulo:20201020T090000
DTEND;TZID=America/Sao_Paulo:20201021T210000
DTSTAMP:20260425T140308
CREATED:20201015T154028Z
LAST-MODIFIED:20201015T195223Z
UID:54678-1603184400-1603314000@www.unibrasil.com.br
SUMMARY:11º SINGURA
DESCRIPTION:Objetivos: \nSINGURA é o nome da Semana Acadêmica do Curso de Design do Unibrasil\, o evento é organizado pelos alunos do oitavo período e este ano acontece a sua 11ª Edição. \nO evento acontece de 20 a 21 de outubro\, trazendo diversos conteúdos completamente gratuitos. Nesses dois dias vão ocorrer diversas palestras e workshops com profissionais e alunos egressos sobre temas de relevância no mercado. Esse é um evento que você não deveria perder! \nINSCRIÇÃO (CLIQUE AQUI): \nProgramação: \n20/10 \n09h00 – Emilio Beltrami – Metodologia Foresight no design. \n10h00 – Ilustração Digital. \n11h00 – Palestra com Thiago Amatti e Jonathan Magalhães de Mendonça – Social Media em tempos de pandemia. \n18h00 – Natália Curupaná – Épos editora. \n19h00 – Palestra com Ale Magnere – Alma gráfica. \n20h00 – Palestra com Fernanda Messias – Sustentabilidade e Design. \n21h00 – Workshop com Fabiano de Miranda – Infográficos. \n  \n21/10 –  \n09h00 – Mesa Redonda sobre Precificação no mercado de Design. \n10h00 – Palestra com Professor Laqua – Ilustração do zero ao esboço final. \n11h00 – Workshop com Professor Laqua – Ilustração do zero ao esboço final. \n19h00 –  Palestra com Giusy e Michele – Muchas Minas. \n20h00 – Palestra com Fernanda Brum – Além da criação de conteúdo. \n21h00 – Palestra com Marcus Motta – Quartel do design.
URL:https://www.unibrasil.com.br/eventos/11o-singura/
LOCATION:Evento online
CATEGORIES:EVENTOS,EVENTOS - GRADUAÇÃO
ATTACH;FMTTYPE=image/jpeg:https://www.unibrasil.com.br/wp-content/uploads/2020/10/WhatsApp-Image-2020-10-15-at-12.39.00.jpeg
END:VEVENT
END:VCALENDAR