BEGIN:VCALENDAR
VERSION:2.0
PRODID:-//UNIBRASIL - ECPv6.10.0//NONSGML v1.0//EN
CALSCALE:GREGORIAN
METHOD:PUBLISH
X-WR-CALNAME:UNIBRASIL
X-ORIGINAL-URL:https://www.unibrasil.com.br
X-WR-CALDESC:Eventos para UNIBRASIL
REFRESH-INTERVAL;VALUE=DURATION:PT1H
X-Robots-Tag:noindex
X-PUBLISHED-TTL:PT1H
BEGIN:VTIMEZONE
TZID:America/Sao_Paulo
BEGIN:STANDARD
TZOFFSETFROM:-0200
TZOFFSETTO:-0300
TZNAME:-03
DTSTART:20190217T020000
END:STANDARD
END:VTIMEZONE
BEGIN:VEVENT
DTSTART;TZID=America/Sao_Paulo:20190827T140000
DTEND;TZID=America/Sao_Paulo:20191126T180000
DTSTAMP:20260425T165456
CREATED:20190821T172511Z
LAST-MODIFIED:20190821T172511Z
UID:42092-1566914400-1574791200@www.unibrasil.com.br
SUMMARY:Tecnologia e Dignidade Humana
DESCRIPTION:Objetivos: Aprofundar o conhecimento em assuntos relacionados à Tecnologia\ne comportamento humano \nINSCRIÇÃO (CLIQUE AQUI): \nProgramação: \n27/08 \n14h às 18h – Discussão de texto \n03/09 \n14h às 18h – Discussão de séries e filmes que retratam o tema Tecnologia e Comportamento Humano \n10/09 \n14h às 18h – Seminários \n17/09 \n14h às 18h  – Seminários \n24/09  \n14h às 18h  – Discussão de texto \n01/10  \n14h às 18h  – Discussão de Cap. De Livro \n08/10  \n14h às 18h  – Discussão de séries e filmes que retratam o tema Tecnologia e Comportamento Humano \n15/10  \n14h às 18h  – Discussão de texto \n22/10  \n14h às 18h  – Seminário \n29/10 \n14h às 18h  – Seminário \n05/11 \n14h às 18h  – Discussão de texto \n12/11  \n14h às 18h  – Discussão de Casos Clínicos \n19/11  \n14h às 18h  – Discussão de Casos Clínicos \n26/11 \n14h às 18h  – Recapitulação do que foi estudado\, Feedback e Confraternização
URL:https://www.unibrasil.com.br/eventos/tecnologia-e-dignidade-humana/
LOCATION:Sala de Aula n. 92 no 2º andar do bloco 4
CATEGORIES:EVENTOS,EVENTOS - GRADUAÇÃO
ATTACH;FMTTYPE=image/jpeg:https://www.unibrasil.com.br/wp-content/uploads/2019/08/tecnologia-e-dignidade-humana-.jpg
END:VEVENT
BEGIN:VEVENT
DTSTART;TZID=America/Sao_Paulo:20190911T090000
DTEND;TZID=America/Sao_Paulo:20190911T100000
DTSTAMP:20260425T165456
CREATED:20190910T211040Z
LAST-MODIFIED:20190910T211040Z
UID:42789-1568192400-1568196000@www.unibrasil.com.br
SUMMARY:Conflito Constitucional no Brasil: Meio Ambiente\, Culturas e Tradições
DESCRIPTION:Objetivos: \n\nApresentar os temas relacionados à proteção dos direitos dos animais em recentes decisões do Supremo Tribunal Federal.\nPromover o debate com mestrandos\, doutorandos\, graduandos\, professores e comunidade em geral\, como incentivo para a troca de experiências e o pensamento crítico.\n\nPúblico-alvo: Alunos de graduação\, mestrado e doutorado do UniBrasil e outras instituições de ensino; Graduandos\, Mestrandos\, Egressos\, Estudantes do tema em outras Universidades\, Público em geral. \nNúmero Máximo de Participantes: 50 \nINSCRIÇÃO (CLIQUE AQUI): \nProgramação: \n11/09 \n09h00 – Conflitos constitucional no Brasil: Meio Ambiente\, Culturas e Tradições (uma análise das decisões do STF envolvendo sacrifício de animais) \n10h00 – Debatedor
URL:https://www.unibrasil.com.br/eventos/conflito-constitucional-no-brasil-meio-ambiente-culturas-e-tradicoes/
LOCATION:Sala de Aula 147\, Bloco 6
CATEGORIES:EVENTOS,EVENTOS - GRADUAÇÃO
ATTACH;FMTTYPE=image/jpeg:https://www.unibrasil.com.br/wp-content/uploads/2019/09/e4727546-79b1-4cfe-954d-dda883485962.jpg
END:VEVENT
BEGIN:VEVENT
DTSTART;TZID=America/Sao_Paulo:20190913T190000
DTEND;TZID=America/Sao_Paulo:20190913T221000
DTSTAMP:20260425T165456
CREATED:20190910T213857Z
LAST-MODIFIED:20190910T213857Z
UID:42812-1568401200-1568412600@www.unibrasil.com.br
SUMMARY:II Simpósio de Saúde Única: Políticas Públicas e o Papel do Médico Veterinário
DESCRIPTION:Objetivos: \nDiscutir políticas públicas e o uso da estrutura do curso para o benefício da saúde única. \nPúblico-alvo: acadêmicos de medicina veterinária e representantes municipais \nNúmero Máximo de Participantes: 150 \nINSCRIÇÃO (CLIQUE AQUI): \nProgramação: \n13/09 \n19h00 às 19h45 – Políticas públicas do Meio Ambiente no município de Pinhais \n19h50 às 20h20 – A Rotina do cirurgião veterinário nas campanhas de castração \n20h35 às 21h45 – Fiscalizações e políticas públicas ambientas do município de Curitiba \n21h30 às 22h10 – Fiscalização e crimes de maus-tratos
URL:https://www.unibrasil.com.br/eventos/ii-simposio-de-saude-unica-politicas-publicas-e-o-papel-do-medico-veterinario/
LOCATION:Auditório Desembargador Cordeiro Clève
CATEGORIES:EVENTOS
ATTACH;FMTTYPE=image/jpeg:https://www.unibrasil.com.br/wp-content/uploads/2019/09/simpósio.jpg
END:VEVENT
BEGIN:VEVENT
DTSTART;TZID=America/Sao_Paulo:20190914T080000
DTEND;TZID=America/Sao_Paulo:20190914T163000
DTSTAMP:20260425T165456
CREATED:20190426T174914Z
LAST-MODIFIED:20190426T174914Z
UID:37770-1568448000-1568478600@www.unibrasil.com.br
SUMMARY:MÓDULO I - Introdução à dermatologia veterinária
DESCRIPTION:Objetivos: \n– Introduzir conceitos dermatológicos gerais; \n– Aprofundar conhecimentos anatômicos\, fisiológicos e imunológicos tegumentares. \n– Preparar os alunos para o módulo aprofundado de dermatologia veterinária. \nPúblico-alvo: Estudantes de Medicina Veterinária do 1º ao 10º período. \nNúmero Máximo de Participantes: 30 \nINSCRIÇÃO (CLIQUE AQUI): \nProgramação: \n14/09/2019 \n08:00 até as 16:30 –  \n\nConceito geral da dermatologia; Embriologia e histologia do tegumento.\nFisiologia tegumentar.\nImunologia tegumentar.\nBactérias\, fungos e parasitas que acometem a pele.
URL:https://www.unibrasil.com.br/eventos/modulo-i-introducao-a-dermatologia-veterinaria/
LOCATION:Sala de aula (a definir)
CATEGORIES:EVENTOS,EVENTOS - GRADUAÇÃO
ATTACH;FMTTYPE=image/jpeg:https://www.unibrasil.com.br/wp-content/uploads/2019/04/dermatologia-veterinaria.jpg
END:VEVENT
BEGIN:VEVENT
DTSTART;TZID=America/Sao_Paulo:20190914T090000
DTEND;TZID=America/Sao_Paulo:20190914T170000
DTSTAMP:20260425T165456
CREATED:20190910T212701Z
LAST-MODIFIED:20190910T212701Z
UID:42807-1568451600-1568480400@www.unibrasil.com.br
SUMMARY:O Suicídio: Conceitos\, Clínica e Prevenção II
DESCRIPTION:Objetivos: \n– Qualificação dos profissionais de saúde no manejo e prevenção ao suicídio; \n– Desenvolver competências para a atuação no campo da Prevenção em Psicologia; \n– Promover capacitação de psicólogos e alunos do último ano de psicologia por meio de cursos\, workshops\, ciclo de palestras e rodas de conversa. \n– Ampliar e fortalecer as ações em saúde visando à detecção precoce de certas condições associadas ao comportamento suicida \nPúblico-alvo: alunos (as) do curso de Psicologia e Psicólogos convidados \nNúmero Máximo de Participantes: 150 \nProgramação: \n14/09  \n09h00 ás 17h00  – O Suicídio: Conceitos\, Clínica e Prevenção
URL:https://www.unibrasil.com.br/eventos/o-suicidio-conceitos-clinica-e-prevencao-ii/
LOCATION:Auditório
CATEGORIES:EVENTOS
ATTACH;FMTTYPE=image/jpeg:https://www.unibrasil.com.br/wp-content/uploads/2019/09/suicidio.jpg
END:VEVENT
BEGIN:VEVENT
DTSTART;TZID=America/Sao_Paulo:20190919T190000
DTEND;TZID=America/Sao_Paulo:20190919T200000
DTSTAMP:20260425T165456
CREATED:20190912T181347Z
LAST-MODIFIED:20190912T181347Z
UID:43012-1568919600-1568923200@www.unibrasil.com.br
SUMMARY:Trânsito seguro sem distração com celular
DESCRIPTION:Objetivos: \n\nConscientizar motoristas\, motociclistas e pedestres quanto às leis de trânsito\, à legislação e garantam um trânsito seguro na cidade\, reduzindo os índices de acidentes\nContribuir significativamente para a conscientização e respeito da promoção de um trânsito mais seguro;\n\nPúblico-alvo: acadêmicos de pedagogia \nNúmero Máximo de Participantes: 150 \nINSCRIÇÃO (CLIQUE AQUI): \nProgramação: \n19/09  \n19h00 às 20h00 – Trânsito seguro sem distração com celular
URL:https://www.unibrasil.com.br/eventos/transito-seguro-sem-distracao-com-celular/
LOCATION:Auditório do bloco 5
CATEGORIES:EVENTOS
ATTACH;FMTTYPE=image/jpeg:https://www.unibrasil.com.br/wp-content/uploads/2019/09/transito.jpg
END:VEVENT
BEGIN:VEVENT
DTSTART;TZID=America/Sao_Paulo:20190925T190000
DTEND;TZID=America/Sao_Paulo:20190925T210000
DTSTAMP:20260425T165456
CREATED:20190912T180241Z
LAST-MODIFIED:20190912T180241Z
UID:42985-1569438000-1569445200@www.unibrasil.com.br
SUMMARY:Pedagogia Logosófica: Ensina e faz feliz
DESCRIPTION:Objetivos: \n\nAperfeiçoar os métodos de ensino\, baseados na junção de fatores como o conhecimento e formação curricular aliada à construção de novos valores e conceitos no campo da educação e prática docente.\nConhecer a Pedagogia Logosófica\, tendo acesso a elementos sobre a inteligência\, a sensibilidade\, sobre o pensar e o sentir de cada fase da vida.\nIdentificar as três etapas da pedagogia Logosófica\, estudo interpretativo dos conceitos\, sua aplicação à vida e o aperfeiçoamento das aptidões adquiridas\, proporcionando o enriquecimento da consciência individual\n\nPúblico-alvo: acadêmicos de pedagogia \nNúmero Máximo de Participantes: 100 \nINSCRIÇÃO (CLIQUE AQUI): \nProgramação: \n25/09  \n19h00 às 21h00 – Pedagogia Logosófica: Ensina e faz feliz
URL:https://www.unibrasil.com.br/eventos/pedagogia-logosofica-ensina-e-faz-feliz/
LOCATION:Auditório Profa. Glaci Zancan – Bloco 04 – 3º andar
CATEGORIES:EVENTOS
ATTACH;FMTTYPE=image/jpeg:https://www.unibrasil.com.br/wp-content/uploads/2019/09/pedagogia-logosófica.jpg
END:VEVENT
BEGIN:VEVENT
DTSTART;TZID=America/Sao_Paulo:20190928T090000
DTEND;TZID=America/Sao_Paulo:20190928T170000
DTSTAMP:20260425T165456
CREATED:20190912T180551Z
LAST-MODIFIED:20190912T180551Z
UID:42957-1569661200-1569690000@www.unibrasil.com.br
SUMMARY:Pósvenção ao Suicídio: o luto e a clínica do luto
DESCRIPTION:Objetivos: \n– Qualificação dos profissionais de saúde no manejo e prevenção ao suicídio; \n– Desenvolver competências para a atuação no campo da Prevenção em Psicologia; \n– Promover capacitação de psicólogos e alunos do último ano de psicologia por meio de cursos\, workshops\, ciclo de palestras e rodas de conversa. \n– Ampliar e fortalecer as ações em saúde visando à detecção precoce de certas condições associadas ao comportamento suicida \nPúblico-alvo: alunos (as) do curso de Psicologia e Psicólogos convidados \nNúmero Máximo de Participantes: 150 \nINSCRIÇÃO (CLIQUE AQUI): \nProgramação: \n28/09  \n09h00 às 17h00 – O Suicídio: Conceitos\, Clínica e Prevenção
URL:https://www.unibrasil.com.br/eventos/posvencao-ao-suicidio-o-luto-e-a-clinica-do-luto/
LOCATION:Auditório Barão do Serro Azul – Bloco 05 – 3º andar
CATEGORIES:EVENTOS,EVENTOS - GRADUAÇÃO
ATTACH;FMTTYPE=image/jpeg:https://www.unibrasil.com.br/wp-content/uploads/2019/09/posvenção.jpg
END:VEVENT
BEGIN:VEVENT
DTSTART;TZID=America/Sao_Paulo:20190930T083000
DTEND;TZID=America/Sao_Paulo:20191001T210000
DTSTAMP:20260425T165456
CREATED:20190912T180428Z
LAST-MODIFIED:20190912T180428Z
UID:42961-1569832200-1569963600@www.unibrasil.com.br
SUMMARY:XVI Ciclo de Debates - A popularização da notícia em tempos de redes sociais
DESCRIPTION:Objetivos: \n– Debater as mudanças no jornalismo; \n– Proporcionar aos estudantes um momento de reflexão sobre as modificações no mercado de trabalho; \nPúblico-alvo: estudantes de jornalismo\, egressos\, professores\, comunidade acadêmica \nNúmero Máximo de Participantes: 150 \nINSCRIÇÃO (CLIQUE AQUI): \nProgramação: \n30/09 \n08h30 – Visita técnica ao Hospital Pequeno Príncipe – oficina com as crianças e dicas de jornalismo hospitalar \n10h00 – Visita técnica no jornal Gazeta do Povo \n19h00 – Mesa Redonda: É possível fazer jornalismo de credibilidade em tempos de Zap-zap? \nLocal: Auditório René Dotti \n21h00 – Oficina: Tudo que você precisa saber maquiagem para televisão \nLocal: estúdio de fotografia \n21h00 – Oficina: Quer um emprego? Aprenda a fazer seu portfólio jornalístico \nLocal: sala 19\, bloco 2 \n21h00 – Oficina: Como produzir um podcast com quem sabe do assunto \nLocal: estúdio de rádio\, bloco 2 \n01/10  \n08h30 – Visita técnica Rádio Banda B \n10h00 – Visita técnica Band News \n19h00 – Ciclo de palestras Egressos Talks: conheça diferentes gerações de jornalistas formados pelo UniBrasil \nLocal: sala de leituras \n21h00 – Comunicagame – competição entre alunos sobre jornalismo \nLocal: jardim do bloco 1
URL:https://www.unibrasil.com.br/eventos/xvi-ciclo-de-debates-a-popularizacao-da-noticia-em-tempos-de-redes-sociais/
LOCATION:Auditório René Dotti; Salas de aula; Sala Leituras do Brasil; Estúdio de fotografia; Estúdio de rádio
CATEGORIES:EVENTOS
ATTACH;FMTTYPE=image/jpeg:https://www.unibrasil.com.br/wp-content/uploads/2019/09/ciclo-de-debates.jpg
END:VEVENT
BEGIN:VEVENT
DTSTART;TZID=America/Sao_Paulo:20190930T193000
DTEND;TZID=America/Sao_Paulo:20191002T210000
DTSTAMP:20260425T165456
CREATED:20190912T180812Z
LAST-MODIFIED:20190924T214217Z
UID:42949-1569871800-1570050000@www.unibrasil.com.br
SUMMARY:10° SINGURA – Semana Acadêmica de Design
DESCRIPTION:Objetivos: \nComplementar  e compartilhar o aprendizado acadêmico \, buscando conhecimento através de palestras com  pro­fissionais em evidencia na área e promover oficinas com foco em habilidades técnicas\, ferramentas e processos\, possibilitando a prática profissional. \nPúblico-alvo: Acadêmicos e profissionais das áreas de Design\, Comunicação e Arquitetura. \nNúmero Máximo de Participantes: palestras 100; oficinas 30 \nINSCRIÇÃO (CLIQUE AQUI): \nProgramação: \n30/09 \n19h30 – De onde viemos e para onde vamos \nTulio Filho é Designer especialista em Branding\, Administrador de Empresas e Ativista do Design. Atua no mercado de comunicação e design há mais de 25 anos. Passou por diversas agências e escritórios\, conquistando prêmios nacionais e internacionais. É co-fundador da BlaBlu onde atualmente é Diretor de Planejamento.\nEm 2013 foi eleito Empresário de Design do Ano. É Sócio Fundador e Ex-Presidente por 3 mandatos da ProDesign>pr. Foi Conselheiro no Conselho da Cidade de Curitiba e no Conselho Nacional de Políticas Culturais (MinC) como representante nacional do Design. É atual Conselheiro no Conselho Municipal de Cultura de Curitiba. Atua em políticas culturais e urbanas desde 2009 participando de conferências municipais\, estaduais e nacionais\, da reformulação do Plano Diretor de Curitiba\, e da criação do Plano Setorial Nacional de Design e do Plano Setorial de Design para Curitiba.\nIdealizador da Semana D\, Festival de Design que acontece desde 2010 e que já trouxe para Curitiba mais de 140 palestras\, sendo 12 internacionais\, 31 exposições\, 67 workshops\, 34 debates entre outros eventos. Correalizou em 2010 o primeiro Fórum de Economia Criativa de Curitiba. Desde 2010 coorganiza o Prêmio Bom Design que premia os melhores trabalhos de conclusão de curso em Design do Sul do país. Coorganizou a iniciativa de Curitiba como World Design Capital em 2018. Tulio é membro do Comitê Gestor do Selo Curitiba Cidade do Design da Unesco\, facilitador de workshops e Coordenador Geral da 13ª Bienal Brasileira de Design Gráfico. \nLocal: auditório bloco 5 \n21h00 – Qual marca você quer deixar no mundo? \nViviane é Publicitária formada pela PUC-PR e pós-graduada em Marketing pela ESPM-SP\, trabalhou por mais de 15 anos como Diretora de contas e Diretora de atendimento de agências como DM9DDB e MCCANN-ERICKSON\, e como Diretora\nGeral da JWT Curitiba.\nEm mais de 20 anos de atuação\, se envolveu no mundo das grandes marcas\, com experiências no desenvolvimento de estratégias de empresas como Nike\, HSBC\, TAM\, Itaú Seguros\, L´oréal Paris\, Grupo Positivo\, O Boticário\, entre outras.\nEm 2010\, criou a Aurora\, sendo a primeira empresa a se posicionar especializada em branding de Curitiba. \nLocal: Auditório bloco 5 \n01/10 \n19h30 – Mídia Data Driven \n2\,5 quintilhões de bytes de informações são criados todos os dias e 49% das empresas conseguem monetizá-los. O objetivo da palestra “Mídia Data-driven” é apresentar como os dados podem ser aliados importantes em decisões estratégicas de comunicação\, design e mídia. Leandro é Diretor da SIX Digital\, Consultor e especialista em mídia digital orientada a performance\, atuando com grandes clientes como Volvo\, Itaipu\, Ducati\, Dunlop Pneus\, Super Muffato\, Slaviero Hotéis\, Governo do Paraná\, entre outros. \nLocal: Auditório bloco 5 \n21h00 – Como tudo começou \nGabrielle Muniz\, UX/UI Designer\, criadora de conteúdo geek do @curitiba.geek\, aficionada por filmes\, games\, boardgames e maratonista de séries nas horas vagas. Além de produzir conteúdo para o Curitiba Geek é apresentadora no Canal Arena Nerd.\nSobre o Curitiba Geek:\nO Curitiba Geek foi criado por Gabi Muniz\, uma geminiana que fala demais\, apaixonada pela cultura geek e que ama compartilhar conteúdo do universo nerd\, dicas de lojas\, lazer\, entretenimento e eventos. Os objetivos do Curitiba Geek sempre foi desafiar e desbravar mais o mundo geek em Curitiba\, ser um negócio plural e proporcionar uma troca de experiências\, conhecimentos e descobrir coisas novas com os geeks de plantão. \nLocal: laboratório 16 e laboratório de Ergonomia\, bloco 8 \n02/10  \n19h30 – O Empoderamento Feminino no Mercado de Trabalho e na Sociedade \nA discussão sobre o feminismo chega em outros espaços quando vestimos uma peita e vamos para a rua. Ela sai da academia e da teoria para incluir a todos. No momento em que nossos corpos estão entregues numa vibração coletiva\, mudando as relações entre as pessoas e\, principalmente\, entre as mulheres – no que diz respeito à competitividade\, ciúmes e todos os sentimentos ruins que o patriarcado precisa para não ficarmos juntas e organizadas – entramos num processo de solidariedade. ( • ) SOBRE KARINA GALLON\nKarina Gallon é designer\, formada pela PUCPR e idealizadora da PEITA\, uma marca com temática feminista que é ferramenta de enfrentamento contra a opressão do machismo\, racismo e lgbtfobia. A marca-protesto nasceu para ir às ruas na marcha de 8 de março de 2017 e de lá para cá cumpre com a missão de trazer dizeres polêmicos do contexto das manifestações para o dia a dia das pessoas. Uma marca que dá visibilidade e encorajamento paras as mulheres. ( • ) PUTA PEITA\nA Peita nasceu dia 8 de março de 2017 com a frase “Lute como uma garota” invadindo as ruas de Curitiba nas manifestações do Dia Internacional da Mulher – Marcha 8M. A marca-protesto cumpre com a missão de trazer os dizeres polêmicos do contexto das manifestações para o dia a dia\, proporcionando a discussão sobre o movimento feminista antirracista. A PEITA é uma ferramenta de enfrentamento às opressões que proporciona diálogo e cada pessoa que usa\, a ressignifica em seu contexto de luta. Hoje a PEITA tem 30 frases\, das quais 70% são parcerias com movimentos\, instituições e projetos sociais\, mulheres que estão na militância e/ou empresas que se comprometem com o combate às opressões. Nestes casos\, o lucro ou parte da produção é doada para financiar causas. \nLocal: Auditório Bloco 5 \n21h00 – Técnicas de Serigrafia \nBruno Amodio foi estudante de Design pela UniBrasil\, e criou a Impart Serigrafia\, estamparia especializada em impressões têxtil. Trabalha no ramo há mais de 5 anos\, desenvolvendo estampas para marcas de roupas\, empresas e eventos. \nLocal: Modelaria Bloco 9
URL:https://www.unibrasil.com.br/eventos/10-singura-semana-academica-de-design/
LOCATION:Palestras: Auditório Bloco 5; Oficinas: Laboratório 16 informática Bloco 8\,  Laboratório de Ergonomia Bloco 8\,   Modelaria Bloco 9
CATEGORIES:EVENTOS
ATTACH;FMTTYPE=image/jpeg:https://www.unibrasil.com.br/wp-content/uploads/2019/09/singura.jpg
END:VEVENT
END:VCALENDAR